BEGIN:VCALENDAR
VERSION:2.0
PRODID:-//Squarespace Inc/Squarespace 6//v6//EN
BEGIN:VEVENT
UID:57b508bd46c3c4fe72c4d041@squarespace.com
DTSTAMP:20160818T010129Z
DTSTART:20160910T223000Z
DTEND:20160911T003000Z
SUMMARY:GEORGIA STATE LINE (duo)
END:VEVENT
END:VCALENDAR
