BEGIN:VCALENDAR
VERSION:2.0
PRODID:-//Squarespace Inc/Squarespace 6//v6//EN
BEGIN:VEVENT
UID:57b50692bebafb54849c94ed@squarespace.com
DTSTAMP:20160818T005211Z
DTSTART:20160901T223000Z
DTEND:20160902T003000Z
SUMMARY:MR ALFORD
END:VEVENT
END:VCALENDAR
