BEGIN:VCALENDAR
VERSION:2.0
PRODID:-//Squarespace Inc/Squarespace 6//v6//EN
BEGIN:VEVENT
UID:578eeb4cebbd1ad4a385a970@squarespace.com
DTSTAMP:20160720T031342Z
DTSTART:20160806T223000Z
DTEND:20160807T003000Z
SUMMARY:GREG STEPS
END:VEVENT
END:VCALENDAR
