BEGIN:VCALENDAR
VERSION:2.0
PRODID:-//Squarespace Inc/Squarespace 6//v6//EN
BEGIN:VEVENT
UID:578edf5b579fb342e99674f9@squarespace.com
DTSTAMP:20160720T021849Z
DTSTART:20160805T213000Z
DTEND:20160806T003000Z
SUMMARY:PUB BINGO WITH TREV & SPARX
END:VEVENT
END:VCALENDAR
