BEGIN:VCALENDAR
VERSION:2.0
PRODID:-//Squarespace Inc/Squarespace 6//v6//EN
BEGIN:VEVENT
UID:578ee04af7e0ab87134ba949@squarespace.com
DTSTAMP:20160720T022301Z
DTSTART:20160805T220000Z
DTEND:20160806T010000Z
SUMMARY:BEER 'O CLOCK
END:VEVENT
END:VCALENDAR
