BEGIN:VCALENDAR
VERSION:2.0
PRODID:-//Squarespace Inc/Squarespace 6//v6//EN
BEGIN:VEVENT
UID:578eddfdbe6594d578539643@squarespace.com
DTSTAMP:20160720T021354Z
DTSTART:20160804T223000Z
DTEND:20160805T003000Z
SUMMARY:DAVID COSMA (duo)
END:VEVENT
END:VCALENDAR
