BEGIN:VCALENDAR
VERSION:2.0
PRODID:-//Squarespace Inc/Squarespace 6//v6//EN
BEGIN:VEVENT
UID:578eece63e00be659553081a@squarespace.com
DTSTAMP:20160720T031621Z
DTSTART:20160827T223000Z
DTEND:20160828T003000Z
SUMMARY:GREG STEPS
END:VEVENT
END:VCALENDAR
