BEGIN:VCALENDAR
VERSION:2.0
PRODID:-//Squarespace Inc/Squarespace 6//v6//EN
BEGIN:VEVENT
UID:578ee00ff7e0ab87134ba5f4@squarespace.com
DTSTAMP:20160720T022134Z
DTSTART:20160826T213000Z
DTEND:20160827T003000Z
SUMMARY:PUB BINGO WITH TREV & SPARX
END:VEVENT
END:VCALENDAR
