BEGIN:VCALENDAR
VERSION:2.0
PRODID:-//Squarespace Inc/Squarespace 6//v6//EN
BEGIN:VEVENT
UID:578ee119b3db2b81e154ff24@squarespace.com
DTSTAMP:20160720T022621Z
DTSTART:20160826T220000Z
DTEND:20160827T010000Z
SUMMARY:BEER 'O CLOCK!
END:VEVENT
END:VCALENDAR
