BEGIN:VCALENDAR
VERSION:2.0
PRODID:-//Squarespace Inc/Squarespace 6//v6//EN
BEGIN:VEVENT
UID:578eeca42994ca6eb42a5c55@squarespace.com
DTSTAMP:20160720T031528Z
DTSTART:20160820T223000Z
DTEND:20160821T003000Z
SUMMARY:GREG STEPS
END:VEVENT
END:VCALENDAR
