BEGIN:VCALENDAR
VERSION:2.0
PRODID:-//Squarespace Inc/Squarespace 6//v6//EN
BEGIN:VEVENT
UID:578edfcb579fb342e996783d@squarespace.com
DTSTAMP:20160720T022051Z
DTSTART:20160819T213000Z
DTEND:20160820T003000Z
SUMMARY:PUB BINGO WITH TREV & SPARX
END:VEVENT
END:VCALENDAR
