BEGIN:VCALENDAR
VERSION:2.0
PRODID:-//Squarespace Inc/Squarespace 6//v6//EN
BEGIN:VEVENT
UID:578ee0c19de4bb0982dd7f53@squarespace.com
DTSTAMP:20160720T022522Z
DTSTART:20160819T220000Z
DTEND:20160820T010000Z
SUMMARY:BEER 'O CLOCK!
END:VEVENT
END:VCALENDAR
