BEGIN:VCALENDAR
VERSION:2.0
PRODID:-//Squarespace Inc/Squarespace 6//v6//EN
BEGIN:VEVENT
UID:57b506f8b3db2b7747f3e005@squarespace.com
DTSTAMP:20160818T005407Z
DTSTART:20160915T223000Z
DTEND:20160916T003000Z
SUMMARY:MR ALFORD
END:VEVENT
END:VCALENDAR
