BEGIN:VCALENDAR
VERSION:2.0
PRODID:-//Squarespace Inc/Squarespace 6//v6//EN
BEGIN:VEVENT
UID:578ede95f5e231d1bffccd90@squarespace.com
DTSTAMP:20160720T021522Z
DTSTART:20160818T223000Z
DTEND:20160819T003000Z
SUMMARY:DAVID COSMA (duo)
END:VEVENT
END:VCALENDAR
