BEGIN:VCALENDAR
VERSION:2.0
PRODID:-//Squarespace Inc/Squarespace 6//v6//EN
BEGIN:VEVENT
UID:578eec71bebafbdbc7930da8@squarespace.com
DTSTAMP:20160720T031433Z
DTSTART:20160813T223000Z
DTEND:20160814T003000Z
SUMMARY:GREG STEPS
END:VEVENT
END:VCALENDAR
