BEGIN:VCALENDAR
VERSION:2.0
PRODID:-//Squarespace Inc/Squarespace 6//v6//EN
BEGIN:VEVENT
UID:578edf9259cc68580be3597e@squarespace.com
DTSTAMP:20160720T021936Z
DTSTART:20160812T213000Z
DTEND:20160813T003000Z
SUMMARY:PUB BINGO WITH TREV & SPARX
END:VEVENT
END:VCALENDAR
