BEGIN:VCALENDAR
VERSION:2.0
PRODID:-//Squarespace Inc/Squarespace 6//v6//EN
BEGIN:VEVENT
UID:578ee0905016e1882f2d8831@squarespace.com
DTSTAMP:20160720T022351Z
DTSTART:20160812T220000Z
DTEND:20160813T010000Z
SUMMARY:BEER 'O CLOCK!
END:VEVENT
END:VCALENDAR
