BEGIN:VCALENDAR
VERSION:2.0
PRODID:-//Squarespace Inc/Squarespace 6//v6//EN
BEGIN:VEVENT
UID:578ede6de6f2e1fe063be695@squarespace.com
DTSTAMP:20160720T021435Z
DTSTART:20160811T223000Z
DTEND:20160812T003000Z
SUMMARY:DAVID COSMA (duo)
END:VEVENT
END:VCALENDAR
