BEGIN:VCALENDAR
VERSION:2.0
PRODID:-//Squarespace Inc/Squarespace 6//v6//EN
BEGIN:VEVENT
UID:576b3ae515d5dbd3def2a080@squarespace.com
DTSTAMP:20160623T012733Z
DTSTART:20160709T223000Z
DTEND:20160710T003000Z
SUMMARY:PENY BOHAN
END:VEVENT
END:VCALENDAR
