BEGIN:VCALENDAR
VERSION:2.0
PRODID:-//Squarespace Inc/Squarespace 6//v6//EN
BEGIN:VEVENT
UID:576b394dbebafbdcb7486889@squarespace.com
DTSTAMP:20160623T012119Z
DTSTART:20160708T213000Z
DTEND:20160709T003000Z
SUMMARY:PUB BINGO WITH TREV & SPARX!
END:VEVENT
END:VCALENDAR
