BEGIN:VCALENDAR
VERSION:2.0
PRODID:-//Squarespace Inc/Squarespace 6//v6//EN
BEGIN:VEVENT
UID:576b37612994cad8067a4315@squarespace.com
DTSTAMP:20160623T011411Z
DTSTART:20160708T220000Z
DTEND:20160709T010000Z
SUMMARY:BEER 'O CLOCK
END:VEVENT
END:VCALENDAR
