BEGIN:VCALENDAR
VERSION:2.0
PRODID:-//Squarespace Inc/Squarespace 6//v6//EN
BEGIN:VEVENT
UID:576b3c0e2e69cfe8cbca1579@squarespace.com
DTSTAMP:20160623T013427Z
DTSTART:20160708T000000Z
DTEND:20160708T020000Z
SUMMARY:MUSIC JAMBOREE
END:VEVENT
END:VCALENDAR
