BEGIN:VCALENDAR
VERSION:2.0
PRODID:-//Squarespace Inc/Squarespace 6//v6//EN
BEGIN:VEVENT
UID:576b3b70b3db2bdd3cc05a48@squarespace.com
DTSTAMP:20160623T013046Z
DTSTART:20160730T223000Z
DTEND:20160731T003000Z
SUMMARY:PENY BOHAN
END:VEVENT
END:VCALENDAR
