BEGIN:VCALENDAR
VERSION:2.0
PRODID:-//Squarespace Inc/Squarespace 6//v6//EN
BEGIN:VEVENT
UID:576b39ffe58c62cdf4cec7a0@squarespace.com
DTSTAMP:20160623T012343Z
DTSTART:20160729T213000Z
DTEND:20160730T003000Z
SUMMARY:PUB BINGO WITH TREV & SPARX
END:VEVENT
END:VCALENDAR
