BEGIN:VCALENDAR
VERSION:2.0
PRODID:-//Squarespace Inc/Squarespace 6//v6//EN
BEGIN:VEVENT
UID:576b3876be6594fbb3a13ec3@squarespace.com
DTSTAMP:20160623T011734Z
DTSTART:20160729T220000Z
DTEND:20160730T010000Z
SUMMARY:BEER 'O CLOCK
END:VEVENT
END:VCALENDAR
