BEGIN:VCALENDAR
VERSION:2.0
PRODID:-//Squarespace Inc/Squarespace 6//v6//EN
BEGIN:VEVENT
UID:576b3d13bebafbdcb748851e@squarespace.com
DTSTAMP:20160623T013649Z
DTSTART:20160729T000000Z
DTEND:20160729T020000Z
SUMMARY:MUSIC JAMBOREE
END:VEVENT
END:VCALENDAR
