BEGIN:VCALENDAR
VERSION:2.0
PRODID:-//Squarespace Inc/Squarespace 6//v6//EN
BEGIN:VEVENT
UID:5786f8a1ff7c509730385ae3@squarespace.com
DTSTAMP:20160720T020102Z
DTSTART:20160728T000000Z
DTEND:20160728T020000Z
SUMMARY:PING PONG & PIE
END:VEVENT
END:VCALENDAR
