BEGIN:VCALENDAR
VERSION:2.0
PRODID:-//Squarespace Inc/Squarespace 6//v6//EN
BEGIN:VEVENT
UID:576b3b3ebebafbdcb74876ca@squarespace.com
DTSTAMP:20160623T012910Z
DTSTART:20160723T223000Z
DTEND:20160724T003000Z
SUMMARY:PENY BOHAN
END:VEVENT
END:VCALENDAR
