BEGIN:VCALENDAR
VERSION:2.0
PRODID:-//Squarespace Inc/Squarespace 6//v6//EN
BEGIN:VEVENT
UID:576b39d5e58c62cdf4cec676@squarespace.com
DTSTAMP:20160623T012301Z
DTSTART:20160722T213000Z
DTEND:20160723T003000Z
SUMMARY:PUB BINGO WITH TREV & SPARX!
END:VEVENT
END:VCALENDAR
