BEGIN:VCALENDAR
VERSION:2.0
PRODID:-//Squarespace Inc/Squarespace 6//v6//EN
BEGIN:VEVENT
UID:576b37ff8419c2d2589d333e@squarespace.com
DTSTAMP:20160623T011626Z
DTSTART:20160722T220000Z
DTEND:20160723T010000Z
SUMMARY:BEER 'O CLOCK
END:VEVENT
END:VCALENDAR
