BEGIN:VCALENDAR
VERSION:2.0
PRODID:-//Squarespace Inc/Squarespace 6//v6//EN
BEGIN:VEVENT
UID:576b3ce8bebafbdcb74883bb@squarespace.com
DTSTAMP:20160623T013607Z
DTSTART:20160722T000000Z
DTEND:20160722T020000Z
SUMMARY:MUSIC JAMBOREE
END:VEVENT
END:VCALENDAR
