BEGIN:VCALENDAR
VERSION:2.0
PRODID:-//Squarespace Inc/Squarespace 6//v6//EN
BEGIN:VEVENT
UID:5786f80acd0f688d44fcc89e@squarespace.com
DTSTAMP:20160720T020050Z
DTSTART:20160721T000000Z
DTEND:20160721T020000Z
SUMMARY:Ping Pong & Pie Night!
END:VEVENT
END:VCALENDAR
