BEGIN:VCALENDAR
VERSION:2.0
PRODID:-//Squarespace Inc/Squarespace 6//v6//EN
BEGIN:VEVENT
UID:576b3a54893fc0c13dd2019f@squarespace.com
DTSTAMP:20160623T012632Z
DTSTART:20160702T223000Z
DTEND:20160703T003000Z
SUMMARY:PENY BOHAN
END:VEVENT
END:VCALENDAR
