BEGIN:VCALENDAR
VERSION:2.0
PRODID:-//Squarespace Inc/Squarespace 6//v6//EN
BEGIN:VEVENT
UID:578edec4b3db2b81e154e8a2@squarespace.com
DTSTAMP:20160720T021620Z
DTSTART:20160825T223000Z
DTEND:20160826T003000Z
SUMMARY:DAVID COSMA (duo)
END:VEVENT
END:VCALENDAR
