BEGIN:VCALENDAR
VERSION:2.0
PRODID:-//Squarespace Inc/Squarespace 6//v6//EN
BEGIN:VEVENT
UID:576b3b11bebafbdcb7487571@squarespace.com
DTSTAMP:20160623T012820Z
DTSTART:20160716T223000Z
DTEND:20160717T003000Z
SUMMARY:PENY BOHAN
END:VEVENT
END:VCALENDAR
