BEGIN:VCALENDAR
VERSION:2.0
PRODID:-//Squarespace Inc/Squarespace 6//v6//EN
BEGIN:VEVENT
UID:576b399abebafbdcb7486aac@squarespace.com
DTSTAMP:20160623T012219Z
DTSTART:20160715T213000Z
DTEND:20160716T003000Z
SUMMARY:PUB BINGO WITH TREV & SPARX!
END:VEVENT
END:VCALENDAR
