BEGIN:VCALENDAR
VERSION:2.0
PRODID:-//Squarespace Inc/Squarespace 6//v6//EN
BEGIN:VEVENT
UID:576b378f2994cad8067a4484@squarespace.com
DTSTAMP:20160623T011348Z
DTSTART:20160715T220000Z
DTEND:20160716T010000Z
SUMMARY:BEER 'O CLOCK!
END:VEVENT
END:VCALENDAR
