BEGIN:VCALENDAR
VERSION:2.0
PRODID:-//Squarespace Inc/Squarespace 6//v6//EN
BEGIN:VEVENT
UID:576b3cb546c3c4053af3e69b@squarespace.com
DTSTAMP:20160623T013520Z
DTSTART:20160715T000000Z
DTEND:20160715T020000Z
SUMMARY:MUSIC JAMBOREE
END:VEVENT
END:VCALENDAR
