BEGIN:VCALENDAR
VERSION:2.0
PRODID:-//Squarespace Inc/Squarespace 6//v6//EN
BEGIN:VEVENT
UID:576b38babe6594fbb3a140fc@squarespace.com
DTSTAMP:20160623T012002Z
DTSTART:20160701T213000Z
DTEND:20160702T003000Z
SUMMARY:PUB BINGO WITH TREV & SPARX!
END:VEVENT
END:VCALENDAR
