BEGIN:VCALENDAR
VERSION:2.0
PRODID:-//Squarespace Inc/Squarespace 6//v6//EN
BEGIN:VEVENT
UID:576b37162994cad8067a4090@squarespace.com
DTSTAMP:20160623T011401Z
DTSTART:20160701T220000Z
DTEND:20160702T010000Z
SUMMARY:BEER 'O CLOCK!
END:VEVENT
END:VCALENDAR
