BEGIN:VCALENDAR
VERSION:2.0
PRODID:-//Squarespace Inc/Squarespace 6//v6//EN
BEGIN:VEVENT
UID:5747912fe32140c00f383833@squarespace.com
DTSTAMP:20160527T001440Z
DTSTART:20160610T000000Z
DTEND:20160610T020000Z
SUMMARY:MUSIC JAMBOREE
END:VEVENT
END:VCALENDAR
