BEGIN:VCALENDAR
VERSION:2.0
PRODID:-//Squarespace Inc/Squarespace 6//v6//EN
BEGIN:VEVENT
UID:574794350442627ca5f37b16@squarespace.com
DTSTAMP:20160527T002809Z
DTSTART:20160604T223000Z
DTEND:20160605T003000Z
SUMMARY:TOBY ROBINSON
END:VEVENT
END:VCALENDAR
