BEGIN:VCALENDAR
VERSION:2.0
PRODID:-//Squarespace Inc/Squarespace 6//v6//EN
BEGIN:VEVENT
UID:57479225e32140c00f383d75@squarespace.com
DTSTAMP:20160527T001829Z
DTSTART:20160701T000000Z
DTEND:20160701T020000Z
SUMMARY:MUSIC JAMBOREE
END:VEVENT
END:VCALENDAR
