BEGIN:VCALENDAR
VERSION:2.0
PRODID:-//Squarespace Inc/Squarespace 6//v6//EN
BEGIN:VEVENT
UID:5747926b40261d83d6796889@squarespace.com
DTSTAMP:20160527T002038Z
DTSTART:20160603T220000Z
DTEND:20160604T010000Z
SUMMARY:BEER O' CLOCK
END:VEVENT
END:VCALENDAR
