BEGIN:VCALENDAR
VERSION:2.0
PRODID:-//Squarespace Inc/Squarespace 6//v6//EN
BEGIN:VEVENT
UID:5747950a37013bbe417ea394@squarespace.com
DTSTAMP:20160527T003046Z
DTSTART:20160625T223000Z
DTEND:20160626T003000Z
SUMMARY:TOBY ROBINSON
END:VEVENT
END:VCALENDAR
