BEGIN:VCALENDAR
VERSION:2.0
PRODID:-//Squarespace Inc/Squarespace 6//v6//EN
BEGIN:VEVENT
UID:574793fe0442627ca5f37a18@squarespace.com
DTSTAMP:20160527T002618Z
DTSTART:20160624T220000Z
DTEND:20160625T010000Z
SUMMARY:BEER O' CLOCK 
END:VEVENT
END:VCALENDAR
