BEGIN:VCALENDAR
VERSION:2.0
PRODID:-//Squarespace Inc/Squarespace 6//v6//EN
BEGIN:VEVENT
UID:574791be2eeb8175e695b6b4@squarespace.com
DTSTAMP:20160527T001714Z
DTSTART:20160624T000000Z
DTEND:20160624T020000Z
SUMMARY:MUSIC JAMBOREE
END:VEVENT
END:VCALENDAR
