BEGIN:VCALENDAR
VERSION:2.0
PRODID:-//Squarespace Inc/Squarespace 6//v6//EN
BEGIN:VEVENT
UID:5747907a7da24f0db5103306@squarespace.com
DTSTAMP:20160527T001732Z
DTSTART:20160603T000000Z
DTEND:20160603T020000Z
SUMMARY:MUSIC JAMBOREE
END:VEVENT
END:VCALENDAR
