BEGIN:VCALENDAR
VERSION:2.0
PRODID:-//Squarespace Inc/Squarespace 6//v6//EN
BEGIN:VEVENT
UID:574e57b6d51cd4cdc1a4ad19@squarespace.com
DTSTAMP:20160601T033626Z
DTSTART:20160618T223000Z
DTEND:20160619T003000Z
SUMMARY:JARRYN PHEGAN
END:VEVENT
END:VCALENDAR
