BEGIN:VCALENDAR
VERSION:2.0
PRODID:-//Squarespace Inc/Squarespace 6//v6//EN
BEGIN:VEVENT
UID:5747939607eaa01bd1a59b2c@squarespace.com
DTSTAMP:20160527T002524Z
DTSTART:20160617T220000Z
DTEND:20160618T010000Z
SUMMARY:BEER O' CLOCK
END:VEVENT
END:VCALENDAR
